BEGIN:VCALENDAR
VERSION:2.0
PRODID:-//hacksw/handcal//NONSGML v1.0//EN
BEGIN:VEVENT
SUMMARY:Competition de doubles benjamins a cadets
UID:e2b80288-3d89-4c79-86c6-8132d589e777
DTSTART:20260509T220000Z
DTEND:20260510T220000Z
LOCATION:Localisation   
CATEGORIES:Sportif
STATUS:
DESCRIPTION:<p><span style="font-size:small;"><span
 style="color:#222222;"><span style="font-family:'trebuchet ms',
 sans-serif;"><span style="font-style:normal;"><span><span
 style="font-weight:400;"><span><span
 style="background-color:#ffffff;"><span><span><span>Le comite
 organise <b><span style="color:#0000ff;">une competition de
 double</span></b> a destination des jeunes a Boulogne, avec au
 programme
 :</span></span></span></span></span></span></span></span></span></span></span></p>
 
 <p><strong>Double
 dame (DD)</strong> et <strong>Double homme
 (DH)</strong></p>
 
 <p><span style="font-size:small;"><span
 style="color:#222222;"><span style="font-family:'trebuchet ms',
 sans-serif;"><span style="font-style:normal;"><span><span
 style="font-weight:400;"><span><span
 style="background-color:#ffffff;"><span><span><span><font
 size="2"><span
 style="color:#000000;">Categories: </span></font><b>Benjamins ·
 Minimes ·
 Cadets</b></span></span></span></span></span></span></span></span></span></span></span></p>
 
 <p>Surclassement
 simple autorise (les Poussins peuvent jouer en Benjamins <em>(pas de
 tableau Poussins)).</em></p>
 
 <p>Fin des inscriptions : 5
 mai</p>
 
 <p>NB : Les joueurs selectionnes au <strong>regroupement
 intercomite du dimanche matin</strong> peuvent participer a la
 competition.  Ils seront convoques a la competition de double
 l’apres-midi.</p>
URL;VALUE=URI:https://www.bcs92.fr/evenements/2026/05/10/competition-de-doubles-benjamins-a-cadets-2443708
END:VEVENT
END:VCALENDAR
